Workbook

Sheet Proposta Comercial
A2: JUSTIÇA FEDERAL NA PARAÍBA
A3: EDITAL DE LICITAÇÃO Nº /2026
A5: PREGÃO ELETRÔNICO Nº /2026 - JFPB
A7: IDENTIFICAÇÃO DA PROPONENTE
A8: Razão Social:
A9: CNPJ/MF:
A10: Endereço:
A11: Telefone: | D11: e-mail:
A12: DADOS DO REPRESENTANTE
A13: Responsável Legal:
A14: Reg. Geral nº.
A15: OBJETO: A presente licitação tem por objeto a contratação de Central de Serviços de TI (Service Desk), compreendendo o atendimento e suporte técnico de 1º e 2º níveis aos usuários de TIC da Justiça Federal na Paraíba, com dedição exclusiva de mão de obra residente na Sede, atendimento remoto às Subseções Judiciárias e regime de sobreaviso, cujas especificações, quantitativos e condições gerais se encontram detalhados no Termo de Referência.
A17: CONTRATO Nº /2026
A18: Grupo | B18: Item | C18: Descrição | D18: Unid. | E18: Quant. | F18: Custo Mensal R$ | G18: Custo Anual R$ | H18: Custo 36 Meses R$
A19: 1 | B19: 1 | C19: 1 (um) Técnico de Suporte N1/N2 (com Supervisão), com dedicação exclusiva de mão de obra residente, incluído o regime de sobreaviso em rodízio, com pagamento mensal vinculado ao IMR | D19: mês | E19: 36 | F19: =Consolidado!E18 -> 7324.45 | G19: =ROUND(F19*12,2) -> 87893.4 | H19: =ROUND(G19*3,2) -> 263680.2
B20: 2 | C20: 3 (três) Técnicos de Suporte N1/N2, com dedicação exclusiva de mão de obra residente, incluído o regime de sobreaviso em rodízio, com pagamento mensal vinculado ao IMR | D20: mês | E20: 36 | F20: =Consolidado!E19 -> 19707.12 | G20: =ROUND(F20*12,2) -> 236485.44 | H20: =ROUND(G20*3,2) -> 709456.32
B21: 3 | C21: Horas extraordinárias de suporte técnico, sob demanda, mediante autorização prévia da fiscalização, em dias úteis, bem como em acionamentos em regime de sobreaviso aos sábados, domingos e feriados, até o limite de 60 horas anuais | D21: mês | E21: 36 | F21: =Consolidado!E25 -> 219.95 | G21: =ROUND(F21*12,2) -> 2639.4 | H21: =ROUND(G21*3,2) -> 7918.2
A22: VALOR TOTAL DO GRUPO (R$): | F22: =SUM(F19:F21) -> 27251.52 | G22: =SUM(G19:G21) -> 327018.24 | H22: =SUM(H19:H21) -> 981054.72
A26: ___________________________________________________________________
A27: EMPRESA LICITANTE
A28: NOME DO REPRESENTANTE LEGAL
A29: RG Nº
A30: CPF Nº
A31: CONTATO:

Sheet Consolidado
A3: SECRETARIA ADMINISTRATIVA
A4: DIVISÃO DE TECNOLOGIA DA INFORMAÇÃO
A7: ORÇAMENTO ESTIMATIVO
A9: Nº DO PROCESSO:
A11: OBJETO: | C11: CONTRATAÇÃO DE EMPRESA ESPECIALIZADA NA EXECUÇÃO DE SERVIÇOS DE TECNOLOGIA DA INFORMAÇÃO E COMUNICAÇÃO - TIC
A13: PRAZO DO CONTRATO (MESES): | C13: 36
A15: GRUPO | B15: RESUMO DA PLANILHA DE CUSTOS E FORMAÇÃO DE PREÇOS
B16: CUSTOS FIXOS
B17: DESCRIÇÃO | C17: QUANTIDADE | D17: CUSTO MENSAL POR EMPREGADO | E17: CUSTO MENSAL DO CONTRATO | F17: CUSTO ANUAL | G17: CUSTO 36 MESES
A18: 1 | B18: TÉCNICO DE SUPORTE N1/N2 (COM SUPERVISÃO) | C18: 1 | D18: ='Téc. Suporte N1-N2 (Supervisão)'!I135 -> 7324.45 | E18: =D18*C18 -> 7324.45 | F18: =ROUND(E18*12,2) -> 87893.4 | G18: =ROUND(F18*3,2) -> 263680.2
B19: TÉCNICO DE SUPORTE N1/N2 | C19: 3 | D19: ='Técnico Suporte N1-N2'!I135 -> 6569.04 | E19: =D19*C19 -> 19707.12 | F19: =ROUND(E19*12,2) -> 236485.44 | G19: =ROUND(F19*3,2) -> 709456.32
B20: TOTAL DE CUSTOS FIXOS | E20: =SUM(E18:E19) -> 27031.57 | F20: =SUM(F18:F19) -> 324378.84 | G20: =SUM(G18:G19) -> 973136.52
B21: CUSTOS EVENTUAIS
B22: DESCRIÇÃO | C22: QUANTIDADE | D22: CUSTO MENSAL POR EMPREGADO | E22: CUSTO MENSAL DO CONTRATO | F22: CUSTO ANUAL | G22: CUSTO 36 MESES
B23: TÉCNICO DE SUPORTE N1/N2 (COM SUPERVISÃO) | C23: 1 | D23: =ROUND(E23/C23,2) -> 60.31 | E23: =SUM('Horas Extras'!Q15,'Horas Extras'!Q16) -> 60.31 | F23: =ROUND(E23*12,2) -> 723.72 | G23: =ROUND(F23*3,2) -> 2171.16
B24: TÉCNICO DE SUPORTE N1/N2 | C24: 3 | D24: =ROUND(E24/C24,2) -> 53.21 | E24: =SUM('Horas Extras'!Q17,'Horas Extras'!Q18) -> 159.64 | F24: =ROUND(E24*12,2) -> 1915.68 | G24: =ROUND(F24*3,2) -> 5747.04
B25: TOTAL DE CUSTOS EVENTUAIS | E25: =SUM(E23:E24) -> 219.95 | F25: =SUM(F23:F24) -> 2639.4 | G25: =SUM(G23:G24) -> 7918.2
B26: TOTAL GERAL DE CUSTOS | E26: =E20+E25 -> 27251.52 | F26: =F20+F25 -> 327018.24 | G26: =G20+G25 -> 981054.72

Sheet Téc. Suporte N1-N2 (Supervisão)
A3: SECRETARIA ADMINISTRATIVA
A4: DIVISÃO DE TECNOLOGIA DA INFORMAÇÃO
H7: Alterar apenas as células destacadas em amarelo
A8: PLANILHA DE CUSTOS E FORMAÇÃO DE PREÇOS - IN MPDG/SEGES Nº 05/2017
A9: (DE ACORDO COM A LEI Nº 13.467/2017)
A11: Licitação nº __/____ - Pregão Eletrônico nº __/____ - JFPB
A13: Discriminação dos Serviços (dados referentes à contratação)
A14: A | B14: Data de apresentação da proposta
A15: B | B15: Município/UF | I15: João Pessoa/PB
A16: C | B16: Ano do Acordo, Convenção ou Dissídio Coletivo | I16: PB000491/2025
A17: D | B17: Nº de meses de execução contratual | I17: 36
A19: Identificação do Serviço
A20: Tipo de Serviço | C20: Unidade de Medida | E20: Quantidade total a contratar (em função da unidade de medida)
A21: TÉCNICO DE SUPORTE N1/N2 COM ATRIBUIÇÃO DE SUPERVISÃO | C21: POSTO | E21: 1
A23: Dados para composição dos custos referentes à mão de obra
A24: 1 | B24: Tipo de serviço (mesmo serviço com características distintas) | I24: TÉCNICO DE SUPORTE N1/N2 (COM SUPERVISÃO)
A25: 2 | B25: Classificação Brasileira de Ocupações (CBO) | I25: 1425-30
A26: 3 | B26: Salário Nominativo da Categoria Profissional | I26: =1601.27*1.06 -> 1697.3462
A27: 4 | B27: Categoria profissional (vinculada à execução contratual) | I27: SINDPD-PB
A28: 5 | B28: Data base da categoria (dia/mês/ano) | I28: 46266
A29: 6 | B29: Jornada de Trabalho | I29: 44h
A31: MÓDULO 1 - COMPOSIÇÃO DA REMUNERAÇÃO
A32: 1 | B32: COMPOSIÇÃO DA REMUNERAÇÃO | H32: % | I32: VALOR (R$)
A33: A | B33: Salário Base | I33: =I26 -> 1697.3462
A34: B | B34: Adicional Periculosidade | I34: 0
A35: C | B35: Adicional Insalubridade | I35: 0
A36: D | B36: Adicional Noturno | I36: 0
A37: E | B37: Adicional de Hora Noturna Reduzida | I37: 0
A38: F | B38: Adicional de Hora Extra no Feriado Trabalhado | I38: 0
A39: G | B39: Sobreaviso (com DSR) | I39: =Sobreaviso!C25*(1+5/25) -> 94.43417
A40: H | B40: Outros (Gratificação) | H40: 0.7 | I40: =H40*I33 -> 1188.1423
A41: TOTAL DO MÓDULO 1 | I41: =SUM(I33:I40) -> 2979.9227
A43: MÓDULO 2 – ENCARGOS E BENEFÍCIOS ANUAIS, MENSAIS E DIÁRIOS
A44: Submódulo 2.1 - 13º Salário, Férias e Adicional de Férias | H44: % | I44: VALOR (R$)
A45: A | B45: 13 (Décimo-terceiro) salário | H45: 0.0909 | I45: =$I$41*H45 -> 270.87497
A46: B | B46: Adicional de Férias | H46: 0.0303 | I46: =H46*I41 -> 90.291658
A47: TOTAL SUBMÓDULO 2.1 | H47: =SUM(H45:H46) -> 0.1212 | I47: =SUM(I45:I46) -> 361.16663
A49: Submódulo 2.2 - GPS, FGTS e Outras Contribuições | H49: % | I49: VALOR (R$)
A50: A | B50: INSS | H50: 0.1 | I50: =H50*($I$41+I47) -> 334.10893
A51: B | B51: Salário Educação | H51: 0.025 | I51: =H51*($I$41+I47) -> 83.527234
...

Sheet Técnico Suporte N1-N2
A3: SECRETARIA ADMINISTRATIVA
A4: DIVISÃO DE TECNOLOGIA DA INFORMAÇÃO
H7: Alterar apenas as células destacadas em amarelo
A8: PLANILHA DE CUSTOS E FORMAÇÃO DE PREÇOS - IN MPDG/SEGES Nº 05/2017
A9: (DE ACORDO COM A LEI Nº 13.467/2017)
A11: Licitação nº __/____ - Pregão Eletrônico nº __/____ - JFPB
A13: Discriminação dos Serviços (dados referentes à contratação)
A14: A | B14: Data de apresentação da proposta
A15: B | B15: Município/UF | I15: João Pessoa/PB
A16: C | B16: Ano do Acordo, Convenção ou Dissídio Coletivo | I16: PB000491/2025
A17: D | B17: Nº de meses de execução contratual | I17: 36
A19: Identificação do Serviço
A20: Tipo de Serviço | C20: Unidade de Medida | E20: Quantidade total a contratar (em função da unidade de medida)
A21: TÉCNICO DE SUPORTE N1/N2 | C21: POSTO | E21: 3
A23: Dados para composição dos custos referentes à mão de obra
A24: 1 | B24: Tipo de serviço (mesmo serviço com características distintas) | I24: TÉCNICO DE SUPORTE N1/N2
A25: 2 | B25: Classificação Brasileira de Ocupações (CBO) | I25: 3172-10
A26: 3 | B26: Salário Nominativo da Categoria Profissional | I26: =1601.27*1.06 -> 1697.3462
A27: 4 | B27: Categoria profissional (vinculada à execução contratual) | I27: SINDPD-PB
A28: 5 | B28: Data base da categoria (dia/mês/ano) | I28: 46266
A29: 6 | B29: Jornada de Trabalho | I29: 44h
A31: MÓDULO 1 - COMPOSIÇÃO DA REMUNERAÇÃO
A32: 1 | B32: COMPOSIÇÃO DA REMUNERAÇÃO | H32: % | I32: VALOR (R$)
A33: A | B33: Salário Base | I33: =I26 -> 1697.3462
A34: B | B34: Adicional Periculosidade | I34: 0
A35: C | B35: Adicional Insalubridade | I35: 0
A36: D | B36: Adicional Noturno | I36: 0
A37: E | B37: Adicional de Hora Noturna Reduzida | I37: 0
A38: F | B38: Adicional de Hora Extra no Feriado Trabalhado | I38: 0
A39: G | B39: Sobreaviso (com DSR) | I39: =Sobreaviso!C26*(1+5/25) -> 83.324268
A40: H | B40: Outros (Gratificação) | H40: 0.5 | I40: =H40*I33 -> 848.6731
A41: TOTAL DO MÓDULO 1 | I41: =SUM(I33:I40) -> 2629.3436
A43: MÓDULO 2 – ENCARGOS E BENEFÍCIOS ANUAIS, MENSAIS E DIÁRIOS
A44: Submódulo 2.1 - 13º Salário, Férias e Adicional de Férias | H44: % | I44: VALOR (R$)
A45: A | B45: 13 (Décimo-terceiro) salário | H45: 0.0909 | I45: =$I$41*H45 -> 239.00733
A46: B | B46: Adicional de Férias | H46: 0.0303 | I46: =H46*I41 -> 79.66911
A47: TOTAL SUBMÓDULO 2.1 | H47: =SUM(H45:H46) -> 0.1212 | I47: =SUM(I45:I46) -> 318.67644
A49: Submódulo 2.2 - GPS, FGTS e Outras Contribuições | H49: % | I49: VALOR (R$)
A50: A | B50: INSS | H50: 0.1 | I50: =H50*($I$41+I47) -> 294.802
A51: B | B51: Salário Educação | H51: 0.025 | I51: =H51*($I$41+I47) -> 73.7005
...

Sheet Sobreaviso
A3: SECRETARIA ADMINISTRATIVA
A4: DIVISÃO DE TECNOLOGIA DA INFORMAÇÃO
A8: ESTIMATIVA DE CUSTOS (SOBREAVISO)
A11: PRAZO DE DURAÇÃO DO CONTRATO (MESES) | D11: 36
A14: DIAS | B14: HORAS (A) | C14: QTE DE DIAS POR MÊS (B) | D14: TOTAL DE HORAS (C = A x B)
A15: Sábado | B15: 8 | C15: 4 | D15: =B15*C15 -> 32
A16: Domingos e Feriados | B16: 8 | C16: 5 | D16: =B16*C16 -> 40
A17: TOTAL DE HORAS (D) | D17: =SUM(D15:D16) -> 72
A18: Quantidade de funcionários (E) | D18: 4
A19: QTDE DE HORAS ESTIMADAS DE SOBREAVISO POR FUNCIONÁRIO (F = D / E) | D19: =ROUND(D17/D18,2) -> 18
A24: SERVIÇO | B24: SALÁRIO HORA DE SOBREAVISO* | C24: VALOR SOBREAVISO**
A25: TÉCNICO DE SUPORTE N1/N2 COM ATRIBUIÇÃO DE SUPERVISÃO | B25: =SUM('Téc. Suporte N1-N2 (Supervisão)'!I33,'Téc. Suporte N1-N2 (Supervisão)'!I40)/220/3 -> 4.3719523 | C25: =B25*D$19 -> 78.695142
A26: TÉCNICO DE SUPORTE N1/N2 | B26: =SUM('Técnico Suporte N1-N2'!I33,'Técnico Suporte N1-N2'!I40)/220/3 -> 3.857605 | C26: =B26*D$19 -> 69.43689
A28: *Salário hora de sobreaviso = (Salário-base + Gratificação) ÷ Qtde de horas mensais ÷ 3
A29: **Valor Sobreaviso = Salário hora de sobreaviso x Qtde de horas estimadas de sobreaviso por funcionário

Sheet Horas Extras
A3: SECRETARIA ADMINISTRATIVA
A4: DIVISÃO DE TECNOLOGIA DA INFORMAÇÃO
A9: PRAZO DE DURAÇÃO DO CONTRATO (MESES) | D9: 36
A12: ESTIMATIVA DE CUSTOS EVENTUAIS (HORAS EXTRAS)
A13: ITEM | E13: 1 | F13: 2 | G13: 3 | H13: 4 | I13: 5 | J13: 6 | K13: 7 | L13: 8 | M13: 9 | N13: 10 | O13: 11 | P13: 12 | Q13: 13 | R13: 14 | S13: 15
A14: DESCRIÇÃO | B14: TIPO DE SERVIÇO | C14: Nº DE EMPREGADOS | D14: VALOR POR EMPREGADO | E14: SALÁRIO | F14: % DE HORA EXTRA | G14: VALOR DA HORA | H14: INCIDÊNCIA SUBMÓDULO 2.1 | I14: INCIDÊNCIA SUBMÓDULO 2.2 | J14: INCIDÊNCIA MÓDULO 3 | K14: CUSTOS INDIRETOS | L14: LUCRO | M14: TRIBUTOS | N14: VALOR DA HORA AJUSTADA | O14: QTE MENSAL DE HORAS | P14: QTDE ANUAL DE HORAS (60H) | Q14: CUSTO MENSAL | R14: CUSTO ANUAL | S14: CUSTO CONTRATO 36 MESES
A15: Contratação de horas extras - dias úteis (incluindo sábados) | B15: Técnico de Suporte N1/N2 (com Supervisão) | C15: 1 | D15: ='Téc. Suporte N1-N2 (Supervisão)'!I135 -> 7324.45 | E15: ='Téc. Suporte N1-N2 (Supervisão)'!I33+'Téc. Suporte N1-N2 (Supervisão)'!I40 -> 2885.4885 | F15: 0.75 | G15: =E15/220*(1+F15) -> 22.95275 | H15: =G15*B$25 -> 2.7818733 | I15: =SUM(G15:H15)*B$26 -> 6.896879 | J15: =G15*B$27 -> 1.4730565 | K15: =SUM(G15:J15)*B$28 -> 1.7052279 | L15: =SUM(G15:K15)*B$29 -> 3.5809786 | M15: =SUM(G15:L15)/(1-B$30)*B$30 -> 5.0432621 | N15: =ROUND(SUM(G15:M15),2) -> 44.43 | O15: =ROUND(P15/12,2) -> 0.5 | P15: =24/4*C15 -> 6 | Q15: =ROUND(N15*O15,2) -> 22.22 | R15: =ROUND(Q15*12,2) -> 266.64 | S15: =ROUND(R15*3,2) -> 799.92
A16: Contratação de horas extras - domingos e feriados | B16: Técnico de Suporte N1/N2 (com Supervisão) | C16: 1 | D16: ='Téc. Suporte N1-N2 (Supervisão)'!I135 -> 7324.45 | E16: ='Téc. Suporte N1-N2 (Supervisão)'!I33+'Téc. Suporte N1-N2 (Supervisão)'!I40 -> 2885.4885 | F16: 1 | G16: =E16/220*(1+F16) -> 26.231714 | H16: =G16*B$25 -> 3.1792837 | I16: =SUM(G16:H16)*B$26 -> 7.8821474 | J16: =G16*B$27 -> 1.6834931 | K16: =SUM(G16:J16)*B$28 -> 1.9488319 | L16: =SUM(G16:K16)*B$29 -> 4.092547 | M16: =SUM(G16:L16)/(1-B$30)*B$30 -> 5.7637281 | N16: =ROUND(SUM(G16:M16),2) -> 50.78 | O16: =ROUND(P16/12,2) -> 0.75 | P16: =36/4*C16 -> 9 | Q16: =ROUND(N16*O16,2) -> 38.09 | R16: =ROUND(Q16*12,2) -> 457.08 | S16: =ROUND(R16*3,2) -> 1371.24
A17: Contratação de horas extras - dias úteis (incluindo sábados) | B17: Técnico de Suporte N1/N2 | C17: 3 | D17: ='Técnico Suporte N1-N2'!I135 -> 6569.04 | E17: ='Técnico Suporte N1-N2'!I33+'Técnico Suporte N1-N2'!I40 -> 2546.0193 | F17: 0.75 | G17: =E17/220*(1+F17) -> 20.252426 | H17: =G17*B$25 -> 2.4545941 | I17: =SUM(G17:H17)*B$26 -> 6.0854814 | J17: =G17*B$27 -> 1.2997557 | K17: =SUM(G17:J17)*B$28 -> 1.5046129 | L17: =SUM(G17:K17)*B$29 -> 3.159687 | M17: =SUM(G17:L17)/(1-B$30)*B$30 -> 4.4499371 | N17: =ROUND(SUM(G17:M17),2) -> 39.21 | O17: =ROUND(P17/12,2) -> 1.5 | P17: =24/4*C17 -> 18 | Q17: =ROUND(N17*O17,2) -> 58.82 | R17: =ROUND(Q17*12,2) -> 705.84 | S17: =ROUND(R17*3,2) -> 2117.52
A18: Contratação de horas extras - domingos e feriados | B18: Técnico de Suporte N1/N2 | C18: 3 | D18: ='Técnico Suporte N1-N2'!I135 -> 6569.04 | E18: ='Técnico Suporte N1-N2'!I33+'Técnico Suporte N1-N2'!I40 -> 2546.0193 | F18: 1 | G18: =E18/220*(1+F18) -> 23.14563 | H18: =G18*B$25 -> 2.8052504 | I18: =SUM(G18:H18)*B$26 -> 6.9548359 | J18: =G18*B$27 -> 1.4854351 | K18: =SUM(G18:J18)*B$28 -> 1.7195576 | L18: =SUM(G18:K18)*B$29 -> 3.6110709 | M18: =SUM(G18:L18)/(1-B$30)*B$30 -> 5.0856424 | N18: =ROUND(SUM(G18:M18),2) -> 44.81 | O18: =ROUND(P18/12,2) -> 2.25 | P18: =36/4*C18 -> 27 | Q18: =ROUND(N18*O18,2) -> 100.82 | R18: =ROUND(Q18*12,2) -> 1209.84 | S18: =ROUND(R18*3,2) -> 3629.52
A19: CUSTOS EVENTUAIS | O19: =SUM(O15:O18) -> 5 | P19: =SUM(P15:P18) -> 60 | Q19: =SUM(Q15:Q18) -> 219.95 | R19: =SUM(R15:R18) -> 2639.4 | S19: =SUM(S15:S18) -> 7918.2
A20: Obs.: Conforme Cláusula 12ª da CCT 2025/2026, as horas extraordinárias serão remuneradas com o adicional de 75% em dias úteis e de 100% sobre o valor da hora normal em dias de descanso (domingos e feriados).
A24: INCIDÊNCIAS | C24: BASE DE CÁLCULO
A25: SUBMÓDULO 2.1 | B25: ='Técnico Suporte N1-N2'!H47 -> 0.1212 | C25: Item 3
A26: SUBMÓDULO 2.2 | B26: ='Técnico Suporte N1-N2'!H58 -> 0.268 | C26: Item 3 + Item 4
A27: MÓDULO 3 | B27: ='Técnico Suporte N1-N2'!H82 -> 0.064177778 | C27: Item 3
A28: CUSTOS INDIRETOS | B28: ='Técnico Suporte N1-N2'!H117 -> 0.05 | C28: Item 3 + Item 4 + Item 5 + Item 6
A29: LUCRO | B29: ='Técnico Suporte N1-N2'!H118 -> 0.1 | C29: Item 3 + Item 4 + Item 5 + Item 6 + Item 7
A30: TRIBUTOS | B30: =SUM('Técnico Suporte N1-N2'!H120:H123) -> 0.1135 | C30: Item 3 + Item 4 + Item 5 + Item 6 + Item 7 + Item 8
A31: * As alíquotas são as aplicadas às respectivas planilhas de mão de obra.

Sheet Fardamento
A3: SECRETARIA ADMINISTRATIVA
A4: DIVISÃO DE TECNOLOGIA DA INFORMAÇÃO
A8: PLANILHA DE INDICAÇÃO DO PREÇO DE REFERÊNCIA - FARDAMENTO
A9: GRUPO | B9: FUNÇÃO | C9: ITEM | D9: DESCRIÇÃO RESUMIDA | E9: UNID. | F9: QTDE. ANUAL | G9: PREÇOS PRATICADOS | J9: VALOR MÉDIO | K9: VARIAÇÃO PERCENTUAL EM RELAÇÃO A MÉDIA | L9: MÉDIA EXCLUINDO OS EXTREMOS | M9: MEDIANA | N9: DADOS ESTATÍSTICOS | P9: VALOR MÁXIMO
G10: ÓRGÃOS / PESSOAS JURÍDICAS | H10: VR UNIT (R$) | I10: VR TOTAL (ANO) | J10: VR UNIT (R$) | L10: VR UNIT (R$) | M10: VR UNIT (R$) | N10: DESVIO PADRÃO | O10: COEFICIENTE DE VARIAÇÃO | P10: VR UNIT MÁXIMO | Q10: VR GLOBAL MÁXIMO | R10: VALOR MENSAL
A11: G1 | B11: FARDAMENTO - AUXILIAR TÉCNICO DE SUPORTE N1/N2 | C11: 1 | D11: CAMISA POLO em algodão e poliéster, com cor padronizada, gola polo e mangas curtas, contendo, de forma visível, o nome e o logotipo da Contratada. | E11: UNID. | F11: 4 | G11: Prefeitura Municipal de Paraipaba/CE | H11: 63.65 | I11: =H11*$F$11 -> 254.6 | J11: =ROUNDUP(AVERAGE(H11:H14),2) -> 62.96 | K11: =H11/$J$11-1 -> 0.010959339 | L11: =ROUNDUP(AVERAGEIFS(H11:H14,K11:K14,"<0,30",K11:K14,">-0,30"),2) -> 62.96 | M11: =ROUNDUP(MEDIAN(H11:H14),2) -> 61.83 | N11: =STDEV(H11:H14) -> 5.2925002 | O11: =N11/L11 -> 0.084061312 | P11: =IF(O11<=0.25, L11,M11) -> 62.96 | Q11: =P11*F11 -> 251.84 | R11: =SUM(Q11:Q30)/12 -> 58.107667
G12: Secretaria Municipal de Desenvolvimento Urbano de Feira de Santana/BA | H12: 60 | I12: =H12*$F$11 -> 240 | K12: =H12/$J$11-1 -> -0.047013977
G13: Policlínica Militar do Rio de Janeiro (UASG 160334) | H13: 58.08 | I13: =H13*$F$11 -> 232.32 | K13: =H13/$J$11-1 -> -0.07750953
G14: Comando do Exército - 4ª Região Militar (UASG 160118) | H14: 70.1 | I14: =H14*$F$11 -> 280.4 | K14: =H14/$J$11-1 -> 0.11340534
C15: 2 | D15: CALÇA profissional tipo brim, 100% algodão, padrão masculino, com 2 (dois) bolsos frontais e 2 (dois) bolsos traseiros. | E15: UNID. | F15: 4 | G15: Prefeitura Municipal de Tuiuti/SP | H15: 59.9 | I15: =H15*$F$15 -> 239.6 | J15: =ROUNDUP(AVERAGE(H15:H18),2) -> 59.8 | K15: =H15/$J$15-1 -> 0.0016722408 | L15: =ROUNDUP(AVERAGEIFS(H15:H18,K15:K18,"<0,30",K15:K18,">-0,30"),2) -> 59.8 | M15: =ROUNDUP(MEDIAN(H15:H18),2) -> 61.5 | N15: =STDEV(H15:H18) -> 5.002536 | O15: =N15/L15 -> 0.083654449 | P15: =IF(O15<=0.25, L15,M15) -> 59.8 | Q15: =P15*F15 -> 239.2
G16: Policlínica Militar do Rio de Janeiro (UASG 160334) | H16: 63.09 | I16: =H16*$F$15 -> 252.36 | K16: =H16/$J$15-1 -> 0.055016722
G17: 53º Batalhão de Infantaria de Selva (UASG 160167) | H17: 63.5 | I17: =H17*$F$15 -> 254 | K17: =H17/$J$15-1 -> 0.06187291
G18: Colégio Militar de Brasília (UASG 160064) | H18: 52.69 | I18: =H18*$F$15 -> 210.76 | K18: =H18/$J$15-1 -> -0.11889632
C19: 3 | D19: Kit 3 (três) pares de meias soquete em algodão, com cano médio, totalizando 6 (seis) pares. | E19: PAR | F19: 2 | G19: Amazon Serviços de Varejo do Brasil Ltda. (CNPJ 15.436.940/0001-03) | H19: 35.99 | I19: =H19*$F$19 -> 71.98 | J19: =ROUNDUP(AVERAGE(H19:H22),2) -> 35.69 | K19: =H19/$J$19-1 -> 0.0084057159 | L19: =ROUNDUP(AVERAGEIFS(H19:H22,K19:K22,"<0,30",K19:K22,">-0,30"),2) -> 35.69 | M19: =ROUNDUP(MEDIAN(H19:H22),2) -> 36.39 | N19: =STDEV(H19:H22) -> 2.5451572 | O19: =N19/L19 -> 0.071312893 | P19: =IF(O19<=0.25, L19,M19) -> 35.69 | Q19: =P19*F19 -> 71.38
G20: SBF Comércio de Produtos Esportivos S.A. (CNPJ 06.347.409/0069-53) | H20: 37.9 | I20: =H20*$F$19 -> 75.8 | K20: =H20/$J$19-1 -> 0.061922107
G21: Magazine Luiza S/A (CNPJ 47.960.950/0001-21) | H21: 32.05 | I21: =H21*$F$19 -> 64.1 | K21: =H21/$J$19-1 -> -0.10198935
G22: Cia Hering (CNPJ 78.876.950/0001-71) | H22: 36.79 | I22: =H22*$F$19 -> 73.58 | K22: =H22/$J$19-1 -> 0.030820958
C23: 4 | D23: Par de SAPATOS antiderrapantes, em couro, com sola de borracha, palmilha antimicrobiana, tipo Sticky Shoes ou semelhante. | E23: PAR | F23: 1 | G23: Prefeitura Municipal de São Miguel do Guamá/PA (UASG 980551) | H23: 172.73 | I23: =H23*$F$27 -> 57.0009 | J23: =ROUNDUP(AVERAGE(H23:H26),2) -> 131.48 | K23: =H23/$J$23-1 -> 0.31373593 | L23: =ROUNDUP(AVERAGEIFS(H23:H26,K23:K26,"<0,30",K23:K26,">-0,30"),2) -> 117.72 | M23: =ROUNDUP(MEDIAN(H23:H26),2) -> 125.83 | N23: =STDEV(H23:H26) -> 30.295034 | O23: =N23/L23 -> 0.25734823 | P23: =IF(O23<=0.25, L23,M23) -> 125.83 | Q23: =P23*F23 -> 125.83
G24: Ministério da Educação (UASG 158143) | H24: 101.51 | I24: =H24*$F$27 -> 33.4983 | K24: =H24/$J$23-1 -> -0.22794341
G25: UNESP - Instituto de Biociências - Campus Rio Claro (UASG 102322) | H25: 132.52 | I25: =H25*$F$27 -> 43.7316 | K25: =H25/$J$23-1 -> 0.0079099483
G26: Prefeitura Municipal de Itacoatiara/AM | H26: 119.13 | I26: =H26*$F$27 -> 39.3129 | K26: =H26/$J$23-1 -> -0.093930636
C27: 4 | D27: CRACHÁ funcional de identificação, com foto, nome e função do empregado e identificação da empresa, confeccionado em PVC, acompanhado de cordão e porta-crachá. | E27: PAR | F27: 0.33 | G27: Mercado Livre Brasil Ltda. (CNPJ 03.007.331/0001-41) | H27: 40.75 | I27: =H27*$F$27 -> 13.4475 | J27: =ROUNDUP(AVERAGE(H27:H30),2) -> 29.69 | K27: =H27/$J$27-1 -> 0.372516 | L27: =ROUNDUP(AVERAGEIFS(H27:H30,K27:K30,"<0,30",K27:K30,">-0,30"),2) -> 26.01 | M27: =ROUNDUP(MEDIAN(H27:H30),2) -> 27.4 | N27: =STDEV(H27:H30) -> 7.9201557 | O27: =N27/L27 -> 0.30450426 | P27: =IF(O27<=0.25, L27,M27) -> 27.4 | Q27: =P27*F27 -> 9.042
G28: SHPS Tecnologia e Serviços Ltda. (CNPJ 35.635.824/0001-12) | H28: 24.8 | I28: =H28*$F$27 -> 8.184 | K28: =H28/$J$27-1 -> -0.16470192
G29: Amazon Serviços de Varejo do Brasil Ltda. (CNPJ 15.436.940/0001-03) | H29: 29.99 | I29: =H29*$F$27 -> 9.8967 | K29: =H29/$J$27-1 -> 0.010104412
G30: SHPS Tecnologia e Serviços Ltda. (CNPJ 35.635.824/0001-12) | H30: 23.22 | I30: =H30*$F$27 -> 7.6626 | K30: =H30/$J$27-1 -> -0.21791849

Sheet Metodologia
A1: A elaboração desta planilha de custos teve como base o Manual de Preenchimento do Modelo de Planilhas de Custos e de Formação de Preços do Superior Tribunal de Justiça - STJ (2020, 102 p., disponível em: <https://transparencia.stj.jus.br/licitacoes_e_contratos/manuais-e-orientacoes/>), exceto no que se refere aos seguintes pontos:
A7: 1) Considerando que a nova CCT com vigência a partir de 01/09/2026 ainda não foi homologada, o salário normativo da categoria foi estimado a partir do piso de "Auxiliar Técnico em Suporte aos Usuários de Computadores", no valor de R$ 1.601,27, definido pela última CCT (PB000491/2025), mantido o índice de reajuste de 6% estabelecido na Cláusula Quarta da última Convenção.
A13: 2) A gratificação de função, de 70% (Técnico N1/N2 com Supervisão) e 50% (Técnico N1/N2) sobre o salário, baseou-se nos percentuais definidos pelo Termo de Referência da contratação.
A17: 3) O percentual de férias e de 13º salário (9,09%), bem como do 1/3 de férias (3,03%), considera as disposições da IN CJF nº 01/2016.
A21: 4) Considerando que as empresas prestadoras de serviços de suporte técnico em informática podem optar pela desoneração da folha de pagamento (art. 7º, I, da Lei nº 12.546/2011, incluído pela Lei nº 12.715/2012), os percentuais de 10% de INSS e de 2,7% de CPRB foram utilizados na planilha de custos com base no art. 9º-A, II, "a" e "b", da Lei nº 12.546/2011, incluído pela Lei nº 14.973/2024, para o exercício de 2026.
A27: 5) O vale-transporte (R$ 5,45) tomou por base o valor definido pelo Decreto PMJP nº 11.224/2026.
A30: 6) O auxílio-alimentação baseou-se nos valores definidos na última CCT (PB000491/2025 - Cláusula Oitava), com a dedução da participação do empregado.
A34: 7) O seguro de vida considerou o valor médio do custo definido na última CCT (PB000491/2025 - Cláusula Vigésima Terceira).
A38: 8) A estimativa dos custos eventuais (horas extras) tomou como base contratação semelhante do TRF5 (Processo SEI nº 0006618-57.2025.4.05.7000, docs. SEI 5165804 e 5186826, Contrato nº 21/2025 - empresa Datagroup Tecnologia da Informação Ltda., CNPJ 33.416.994/0001-80).
A43: 9) A planilha de indicação do preço de referência para o fardamento considerou o procedimento definido pela Portaria da Direção do Foro nº 57/2022, Processo SEI nº 0001630-93.2021.4.05.7400.
